BEGIN:VCALENDAR
VERSION:2.0
PRODID:-//SCHOOL IS OUT! - ECPv6.15.20//NONSGML v1.0//EN
CALSCALE:GREGORIAN
METHOD:PUBLISH
X-WR-CALNAME:SCHOOL IS OUT!
X-ORIGINAL-URL:https://ferienkalender.leibnitz.at
X-WR-CALDESC:Veranstaltungen für SCHOOL IS OUT!
REFRESH-INTERVAL;VALUE=DURATION:PT1H
X-Robots-Tag:noindex
X-PUBLISHED-TTL:PT1H
BEGIN:VTIMEZONE
TZID:Europe/Vienna
BEGIN:DAYLIGHT
TZOFFSETFROM:+0100
TZOFFSETTO:+0200
TZNAME:CEST
DTSTART:20250330T010000
END:DAYLIGHT
BEGIN:STANDARD
TZOFFSETFROM:+0200
TZOFFSETTO:+0100
TZNAME:CET
DTSTART:20251026T010000
END:STANDARD
BEGIN:DAYLIGHT
TZOFFSETFROM:+0100
TZOFFSETTO:+0200
TZNAME:CEST
DTSTART:20260329T010000
END:DAYLIGHT
BEGIN:STANDARD
TZOFFSETFROM:+0200
TZOFFSETTO:+0100
TZNAME:CET
DTSTART:20261025T010000
END:STANDARD
BEGIN:DAYLIGHT
TZOFFSETFROM:+0100
TZOFFSETTO:+0200
TZNAME:CEST
DTSTART:20270328T010000
END:DAYLIGHT
BEGIN:STANDARD
TZOFFSETFROM:+0200
TZOFFSETTO:+0100
TZNAME:CET
DTSTART:20271031T010000
END:STANDARD
END:VTIMEZONE
BEGIN:VEVENT
DTSTART;VALUE=DATE:20260727
DTEND;VALUE=DATE:20260801
DTSTAMP:20260425T142720
CREATED:20260423T060714Z
LAST-MODIFIED:20260423T060714Z
UID:4534-1785110400-1785542399@ferienkalender.leibnitz.at
SUMMARY:English Summer Camp Leibnitz
DESCRIPTION:Projektbasierte Englische Sprachwoche mit einem internationalen Team aus Native SpeakerEnglish Teachers. \nEine Woche lang eintauchen in die englische Sprache und ihre verschiedenen Kulturen. \nEs ist wichtig\, dass Kinder gute Englischkenntnisse entwickeln und sich wohlfühlen im Sprechen der Sprache\, dies öffnet beruflich wie privat viele Türen! \n\nPreis pro Kind:\nbis 30.04.2026: € 239\,-\nab Mai 2026: € 249\,-
URL:https://ferienkalender.leibnitz.at/event/english-summer-week-2-2/
LOCATION:MS2 Leibnitz\, Karl Morre-Gasse 14\, Leibnitz\, Steiermark\, 8430\, Österreich
CATEGORIES:Kreativ,Kultur,Lernen,Sport
ATTACH;FMTTYPE=image/jpeg:https://ferienkalender.leibnitz.at/cms/wp-content/uploads/2026/04/Englische-Sprachwoche_SOMMER-2026-scaled.jpg
END:VEVENT
END:VCALENDAR